BEGIN:VCALENDAR
VERSION:2.0
PRODID:-//British Car Club of Delaware, Inc - ECPv6.15.20//NONSGML v1.0//EN
CALSCALE:GREGORIAN
METHOD:PUBLISH
X-ORIGINAL-URL:https://bccdelaware.org
X-WR-CALDESC:Events for British Car Club of Delaware, Inc
REFRESH-INTERVAL;VALUE=DURATION:PT1H
X-Robots-Tag:noindex
X-PUBLISHED-TTL:PT1H
BEGIN:VTIMEZONE
TZID:America/New_York
BEGIN:DAYLIGHT
TZOFFSETFROM:-0500
TZOFFSETTO:-0400
TZNAME:EDT
DTSTART:20250309T070000
END:DAYLIGHT
BEGIN:STANDARD
TZOFFSETFROM:-0400
TZOFFSETTO:-0500
TZNAME:EST
DTSTART:20251102T060000
END:STANDARD
BEGIN:DAYLIGHT
TZOFFSETFROM:-0500
TZOFFSETTO:-0400
TZNAME:EDT
DTSTART:20260308T070000
END:DAYLIGHT
BEGIN:STANDARD
TZOFFSETFROM:-0400
TZOFFSETTO:-0500
TZNAME:EST
DTSTART:20261101T060000
END:STANDARD
BEGIN:DAYLIGHT
TZOFFSETFROM:-0500
TZOFFSETTO:-0400
TZNAME:EDT
DTSTART:20270314T070000
END:DAYLIGHT
BEGIN:STANDARD
TZOFFSETFROM:-0400
TZOFFSETTO:-0500
TZNAME:EST
DTSTART:20271107T060000
END:STANDARD
END:VTIMEZONE
BEGIN:VEVENT
DTSTART;TZID=America/New_York:20260314T093000
DTEND;TZID=America/New_York:20260314T110000
DTSTAMP:20260421T180536
CREATED:20260101T185835Z
LAST-MODIFIED:20260114T212726Z
UID:7988-1773480600-1773486000@bccdelaware.org
SUMMARY:BCCD Cars & Coffee
DESCRIPTION:
URL:https://bccdelaware.org/event/bccd-cars-coffee/
LOCATION:Dunkin’\, 100 Four Seasons Parkway\, Newark\, DE\, 19702
END:VEVENT
BEGIN:VEVENT
DTSTART;TZID=America/New_York:20260318T130000
DTEND;TZID=America/New_York:20260318T140000
DTSTAMP:20260421T180536
CREATED:20260114T214133Z
LAST-MODIFIED:20260124T154324Z
UID:8027-1773838800-1773842400@bccdelaware.org
SUMMARY:BCCD Northern Chapter Meeting
DESCRIPTION:
URL:https://bccdelaware.org/event/bccd-northern-chapter-meeting-2/
LOCATION:Green Turtle\, 425 Stanton Christiana Road\, Newark\, DE\, United States
END:VEVENT
BEGIN:VEVENT
DTSTART;TZID=America/New_York:20260325T180000
DTEND;TZID=America/New_York:20260325T200000
DTSTAMP:20260421T180536
CREATED:20260114T215011Z
LAST-MODIFIED:20260114T215011Z
UID:8049-1774461600-1774468800@bccdelaware.org
SUMMARY:BCCD Southern Chapter Meeting
DESCRIPTION:
URL:https://bccdelaware.org/event/bccd-southern-chapter-meeting-3/
LOCATION:Rehoboth Ale House\, 20859 Coastal Hwy\, Rehoboth Beach\, DE\, 19971\, United States
END:VEVENT
BEGIN:VEVENT
DTSTART;TZID=America/New_York:20260328T100000
DTEND;TZID=America/New_York:20260328T130000
DTSTAMP:20260421T180536
CREATED:20260118T183516Z
LAST-MODIFIED:20260316T150116Z
UID:8071-1774692000-1774702800@bccdelaware.org
SUMMARY:Fun Run:  4 Seasons Plaza Dunkin' to Crabby Dicks
DESCRIPTION:Free signup & Details in Eventbrite (Link). Meet at 4 Seasons Dunkin’ at 10am; ~90min drive ending in lunch at Dolly Spanker’s in Delaware City (Alan Hill)
URL:https://bccdelaware.org/event/fun-run-4-seasons-plaza-to-crabby-dicks/
LOCATION:PA
END:VEVENT
END:VCALENDAR