BEGIN:VCALENDAR
VERSION:2.0
PRODID:-//British Car Club of Delaware, Inc - ECPv6.15.20//NONSGML v1.0//EN
CALSCALE:GREGORIAN
METHOD:PUBLISH
X-ORIGINAL-URL:https://bccdelaware.org
X-WR-CALDESC:Events for British Car Club of Delaware, Inc
REFRESH-INTERVAL;VALUE=DURATION:PT1H
X-Robots-Tag:noindex
X-PUBLISHED-TTL:PT1H
BEGIN:VTIMEZONE
TZID:America/New_York
BEGIN:DAYLIGHT
TZOFFSETFROM:-0500
TZOFFSETTO:-0400
TZNAME:EDT
DTSTART:20250309T070000
END:DAYLIGHT
BEGIN:STANDARD
TZOFFSETFROM:-0400
TZOFFSETTO:-0500
TZNAME:EST
DTSTART:20251102T060000
END:STANDARD
BEGIN:DAYLIGHT
TZOFFSETFROM:-0500
TZOFFSETTO:-0400
TZNAME:EDT
DTSTART:20260308T070000
END:DAYLIGHT
BEGIN:STANDARD
TZOFFSETFROM:-0400
TZOFFSETTO:-0500
TZNAME:EST
DTSTART:20261101T060000
END:STANDARD
BEGIN:DAYLIGHT
TZOFFSETFROM:-0500
TZOFFSETTO:-0400
TZNAME:EDT
DTSTART:20270314T070000
END:DAYLIGHT
BEGIN:STANDARD
TZOFFSETFROM:-0400
TZOFFSETTO:-0500
TZNAME:EST
DTSTART:20271107T060000
END:STANDARD
END:VTIMEZONE
BEGIN:VEVENT
DTSTART;TZID=America/New_York:20260501T170000
DTEND;TZID=America/New_York:20260501T190000
DTSTAMP:20260421T180516
CREATED:20260124T153852Z
LAST-MODIFIED:20260408T134339Z
UID:8077-1777654800-1777662000@bccdelaware.org
SUMMARY:Lewes Car Show Meet & Greet
DESCRIPTION:For Lewes car show registered car owners and guests\, and BCCD members. Flyer with details will be provided ~mid-April.
URL:https://bccdelaware.org/event/tbd-lewes-car-show-meet-greet/
LOCATION:Wheelhouse Restaurant\, 7 Anglers Road\, Lewes\, DE\, 19958
END:VEVENT
BEGIN:VEVENT
DTSTART;TZID=America/New_York:20260502T100000
DTEND;TZID=America/New_York:20260502T150000
DTSTAMP:20260421T180516
CREATED:20260101T190850Z
LAST-MODIFIED:20260228T161056Z
UID:7992-1777716000-1777734000@bccdelaware.org
SUMMARY:Lewes British Motorcar Show
DESCRIPTION:Featured Marque:  MORGAN \nMore info/registration (opens 3/20) at: https://lewesbritishmotorcarshow.ticketspice.com/lewes-british-motorcar-show-2026
URL:https://bccdelaware.org/event/lewes-british-motorcar-show/
LOCATION:Lewes Ferry Terminal\, 43 Cape Henlopen Dr\, Lewes\, DE\, 19958
END:VEVENT
BEGIN:VEVENT
DTSTART;TZID=America/New_York:20260509T093000
DTEND;TZID=America/New_York:20260509T110000
DTSTAMP:20260421T180516
CREATED:20260114T212040Z
LAST-MODIFIED:20260124T154952Z
UID:8001-1778319000-1778324400@bccdelaware.org
SUMMARY:BCCD Cars & Coffee
DESCRIPTION:
URL:https://bccdelaware.org/event/bccd-cars-coffee-3/
LOCATION:Dunkin’\, 100 Four Seasons Parkway\, Newark\, DE\, 19702
END:VEVENT
BEGIN:VEVENT
DTSTART;TZID=America/New_York:20260509T110000
DTEND;TZID=America/New_York:20260509T150000
DTSTAMP:20260421T180516
CREATED:20260413T181324Z
LAST-MODIFIED:20260413T181324Z
UID:8182-1778324400-1778338800@bccdelaware.org
SUMMARY:Tommy Town Visit
DESCRIPTION:This event\, scheduled for May 9 in Harbeson\, DE\, would be a great one to attend as a group. If you haven’t been there\, it is well worth the visit to see Tommy’s recreation of a period gas station\, barber shop\, general store\, police station and more. His displays of antique cars\, gas pumps\, advertising signs and more are unbelievable. He will make space for our cars if we want to come as a group. $10 Admission; Kids under 12 Free. Please let Bill Tattersall know if you are interested
URL:https://bccdelaware.org/event/tommy-town-visit/
LOCATION:Tommy Town\, 20104 Doddtown Rd\, Harbeson\, DE
END:VEVENT
BEGIN:VEVENT
DTSTART;TZID=America/New_York:20260512T173000
DTEND;TZID=America/New_York:20260512T190000
DTSTAMP:20260421T180516
CREATED:20260114T213050Z
LAST-MODIFIED:20260416T205313Z
UID:8013-1778607000-1778612400@bccdelaware.org
SUMMARY:Cars at the Ferry
DESCRIPTION:Lewes/Cape May Ferry Terminal (Lewes\, DE)
URL:https://bccdelaware.org/event/cars-at-the-ferry/
LOCATION:Lewes Ferry Terminal\, 43 Cape Henlopen Dr\, Lewes\, DE\, 19958
END:VEVENT
BEGIN:VEVENT
DTSTART;TZID=America/New_York:20260516T110000
DTEND;TZID=America/New_York:20260516T150000
DTSTAMP:20260421T180516
CREATED:20260413T183630Z
LAST-MODIFIED:20260413T183630Z
UID:8185-1778929200-1778943600@bccdelaware.org
SUMMARY:Brits by the Bay 2026 (Sponsored by TRAC)
DESCRIPTION:Featured Marque:  Triumph “Wedge” Cars. This year’s show includes pre-2000 European Cars as well as all British Cars & Motorcycles \nGates open 10:30am. Register at www.tracltd.org \nMore info at:  https://www.facebook.com/Britsbythebay \nSponsored by TRiumphs Around the Chesapeake (TRAC)
URL:https://bccdelaware.org/event/brits-by-the-bay-2026-sponsored-by-trac/
LOCATION:Deer Creek Overlook\, 6 Cherry Hill Rd\, Street\, MD\, 21154
END:VEVENT
BEGIN:VEVENT
DTSTART;TZID=America/New_York:20260520T180000
DTEND;TZID=America/New_York:20260520T190000
DTSTAMP:20260421T180516
CREATED:20260114T214253Z
LAST-MODIFIED:20260124T154810Z
UID:8031-1779300000-1779303600@bccdelaware.org
SUMMARY:BCCD Northern Chapter Meeting
DESCRIPTION:
URL:https://bccdelaware.org/event/bccd-northern-chapter-meeting-4/
LOCATION:Green Turtle\, 425 Stanton Christiana Road\, Newark\, DE\, United States
END:VEVENT
BEGIN:VEVENT
DTSTART;TZID=America/New_York:20260527T180000
DTEND;TZID=America/New_York:20260527T200000
DTSTAMP:20260421T180516
CREATED:20260114T215118Z
LAST-MODIFIED:20260114T215118Z
UID:8053-1779904800-1779912000@bccdelaware.org
SUMMARY:BCCD Southern Chapter Meeting
DESCRIPTION:
URL:https://bccdelaware.org/event/bccd-southern-chapter-meeting-5/
LOCATION:Rehoboth Ale House\, 20859 Coastal Hwy\, Rehoboth Beach\, DE\, 19971\, United States
END:VEVENT
BEGIN:VEVENT
DTSTART;VALUE=DATE:20260530
DTEND;VALUE=DATE:20260608
DTSTAMP:20260421T180516
CREATED:20260114T215753Z
LAST-MODIFIED:20260114T215753Z
UID:8067-1780099200-1780876799@bccdelaware.org
SUMMARY:British Car Week - Drive Your LBC!
DESCRIPTION:https://www.britishcarweek.org/
URL:https://bccdelaware.org/event/british-car-week-drive-your-lbc/
LOCATION:PA
END:VEVENT
END:VCALENDAR