BEGIN:VCALENDAR
VERSION:2.0
PRODID:-//British Car Club of Delaware, Inc - ECPv6.15.20//NONSGML v1.0//EN
CALSCALE:GREGORIAN
METHOD:PUBLISH
X-WR-CALNAME:British Car Club of Delaware, Inc
X-ORIGINAL-URL:https://bccdelaware.org
X-WR-CALDESC:Events for British Car Club of Delaware, Inc
REFRESH-INTERVAL;VALUE=DURATION:PT1H
X-Robots-Tag:noindex
X-PUBLISHED-TTL:PT1H
BEGIN:VTIMEZONE
TZID:America/New_York
BEGIN:DAYLIGHT
TZOFFSETFROM:-0500
TZOFFSETTO:-0400
TZNAME:EDT
DTSTART:20250309T070000
END:DAYLIGHT
BEGIN:STANDARD
TZOFFSETFROM:-0400
TZOFFSETTO:-0500
TZNAME:EST
DTSTART:20251102T060000
END:STANDARD
BEGIN:DAYLIGHT
TZOFFSETFROM:-0500
TZOFFSETTO:-0400
TZNAME:EDT
DTSTART:20260308T070000
END:DAYLIGHT
BEGIN:STANDARD
TZOFFSETFROM:-0400
TZOFFSETTO:-0500
TZNAME:EST
DTSTART:20261101T060000
END:STANDARD
BEGIN:DAYLIGHT
TZOFFSETFROM:-0500
TZOFFSETTO:-0400
TZNAME:EDT
DTSTART:20270314T070000
END:DAYLIGHT
BEGIN:STANDARD
TZOFFSETFROM:-0400
TZOFFSETTO:-0500
TZNAME:EST
DTSTART:20271107T060000
END:STANDARD
END:VTIMEZONE
BEGIN:VEVENT
DTSTART;TZID=America/New_York:20260422T180000
DTEND;TZID=America/New_York:20260422T200000
DTSTAMP:20260421T162308
CREATED:20260114T215046Z
LAST-MODIFIED:20260114T215046Z
UID:8051-1776880800-1776888000@bccdelaware.org
SUMMARY:BCCD Southern Chapter Meeting
DESCRIPTION:
URL:https://bccdelaware.org/event/bccd-southern-chapter-meeting-4/
LOCATION:Rehoboth Ale House\, 20859 Coastal Hwy\, Rehoboth Beach\, DE\, 19971\, United States
END:VEVENT
BEGIN:VEVENT
DTSTART;TZID=America/New_York:20260425T080000
DTEND;TZID=America/New_York:20260425T120000
DTSTAMP:20260421T162308
CREATED:20260407T134304Z
LAST-MODIFIED:20260407T134304Z
UID:8176-1777104000-1777118400@bccdelaware.org
SUMMARY:Cars\, Coffee\, & Airplanes
DESCRIPTION:4/25/26 event sponsored by New Garden Airport. No registration.  Just Show up – vehicles will be directed to park as they arrive. .  8:00 AM  12:00 PM\, New Garden Flying Field
URL:https://bccdelaware.org/event/cars-coffee-airplanes/
LOCATION:New Garden Flying Field\, 1235 NEWARK ROAD\, TOUGHKENAMON\, PA\, 19374
END:VEVENT
BEGIN:VEVENT
DTSTART;TZID=America/New_York:20260426T093000
DTEND;TZID=America/New_York:20260426T150000
DTSTAMP:20260421T162308
CREATED:20251231T180340Z
LAST-MODIFIED:20251231T180340Z
UID:7980-1777195800-1777215600@bccdelaware.org
SUMMARY:28th Annual Britain on the Green British Car & Motorcycle Show
DESCRIPTION:The Capital Triumph Register sponsored show. Further information on Britain on the Green can be found at: https://www.britainonthegreen.org/
URL:https://bccdelaware.org/event/28th-annual-britain-on-the-green-british-car-motorcycle-show/
LOCATION:Gunston Hall\, 10709 Gunston Road\, Lorton\, VA\, 22079
END:VEVENT
END:VCALENDAR